BEGIN:VCALENDAR
VERSION:2.0
PRODID:-//Indonesia Financial Advisor Community - ECPv6.15.20//NONSGML v1.0//EN
CALSCALE:GREGORIAN
METHOD:PUBLISH
X-ORIGINAL-URL:https://www.ifac.or.id
X-WR-CALDESC:Events for Indonesia Financial Advisor Community
REFRESH-INTERVAL;VALUE=DURATION:PT1H
X-Robots-Tag:noindex
X-PUBLISHED-TTL:PT1H
BEGIN:VTIMEZONE
TZID:UTC
BEGIN:STANDARD
TZOFFSETFROM:+0000
TZOFFSETTO:+0000
TZNAME:UTC
DTSTART:20220101T000000
END:STANDARD
END:VTIMEZONE
BEGIN:VEVENT
DTSTART;TZID=UTC:20230615T080000
DTEND;TZID=UTC:20230615T170000
DTSTAMP:20260425T202142
CREATED:20221212T051042Z
LAST-MODIFIED:20230605T035408Z
UID:4354-1686816000-1686848400@www.ifac.or.id
SUMMARY:Pelatihan Online Gelar Profesi Associate Wealth Planner Syariah (AWP) Batch #50  - 2022
DESCRIPTION:Associate Wealth Planner Syariah adalah Gelar Profesi yang di miliki oleh AWP Academy dan di endorse oleh FPSB Indonesia. Total member AWP saat ini sejumlah 6000 member terdiri dari 5500 AWP Non Syariah dan 500 AWP Syariah.  \nKeuntungan mengikuti Kelas AWP Syariah \n– Peserta memahami Prinsip Keuangan Syariah \n– Peserta memahami Dasar Perencanaan Keuangan Syariah \n– Peserta memahami tentang Perencanaan Anggaran (Arus Kas dan Dana Darurat) \n– Peserta memahami tentang Konsep Time Value of Money \n– Peserta mampu menggunakan Aplikasi MyIFPE Syariah untuk menghitung perencanaan anggaran\,  Asuransi Jiwa\,  Pendidikan Anak\,  Pensiun\, Dana Haji\, Dana Menikah\, Dana Wakaf dll secara Digital. \n– Mendapatkan gelar profesi perencana keuangan AWP Syariah yang di endorse oleh FPSB Indonesia. \nJenis Kelas : Online Via Zoom Meeting \nDurasi : 1 Hari (09.00 – 17.00) \nBiaya : Rp 1.350.000\,- per orang (workshop\,  e-certificate\, hardcopy certificate\,  aplikasi MYIFPE seumur hidup\,  gelar profesi AWP (sertifikasi) \nMentor : Vicko Hadian\, CFP\,QWP\, AWP\, AEPP (The Most Inspirational Mentor 2018-2021 & Top Mentor AWP Syariah 2021) \nPendaftaran : Form AWPS – IAS Finansial (ptias.id) \nInfo lebih lanjut : bit.ly/pokeifac (WA Admin)
URL:https://www.ifac.or.id/event/pelatihan-online-gelar-profesi-associate-wealth-planner-syariah-awp-batch-43-2022/
LOCATION:Zoom Meeting\, Jakarta\, Indonesia
ORGANIZER;CN="ifacademy":MAILTO:academy@ifac.or.id
END:VEVENT
END:VCALENDAR