BEGIN:VCALENDAR
VERSION:2.0
PRODID:-//Indonesia Financial Advisor Community - ECPv6.15.20//NONSGML v1.0//EN
CALSCALE:GREGORIAN
METHOD:PUBLISH
X-ORIGINAL-URL:https://www.ifac.or.id
X-WR-CALDESC:Events for Indonesia Financial Advisor Community
REFRESH-INTERVAL;VALUE=DURATION:PT1H
X-Robots-Tag:noindex
X-PUBLISHED-TTL:PT1H
BEGIN:VTIMEZONE
TZID:UTC
BEGIN:STANDARD
TZOFFSETFROM:+0000
TZOFFSETTO:+0000
TZNAME:UTC
DTSTART:20220101T000000
END:STANDARD
END:VTIMEZONE
BEGIN:VEVENT
DTSTART;TZID=UTC:20231015T080000
DTEND;TZID=UTC:20231015T170000
DTSTAMP:20260425T142607
CREATED:20230913T083517Z
LAST-MODIFIED:20230926T222810Z
UID:5698-1697356800-1697389200@www.ifac.or.id
SUMMARY:Pelatihan Online Gelar Profesi Associate Wealth Planner (AWP) Batch #58 2023
DESCRIPTION:Associate Wealth Planner adalah Gelar Profesi yang di miliki oleh AWP Academy dan di endorse oleh FPSB Indonesia. Total member AWP saat ini di di atas 6600 member terdiri dari 6000 AWP Non Syariah dan 600 AWP Syariah. \nKeuntungan mengikuti Kelas AWP\n-Peserta memahami Dasar Perencanaan Keuangan\n-Peserta memahami tentang Perencanaan Anggaran\n-Peserta memahami tentang Konsep Time Value of Money\n-Peserta mampu menggunakan Aplikasi MyIFPE untuk menghitung perencanaan anggaran\, Asuransi Jiwa\, Pendidikan Anak\, Pensiun dll secara Digital.\n-Mendapatkan gelar profesi perencana keuangan AWP yang di endorse oleh FPSB Indonesia. \nJenis Kelas : Online Via Zoom Meeting\nDurasi : 1 Hari (09.00 – 16.00)\nBiaya : Rp 1.200.000\,-per orang (workshop\, e-certificate\, hardcopy certificate\, aplikasi MYIFPE seumur hidup\, sertifikasi gelar profesi AWP)\nMentor : Vicko Hadian\, CFP\, QWP\, QLP\, AEPP (The Most Inspirational Mentor 2018-2022) \nDaftar sebelum penuh!
URL:https://www.ifac.or.id/event/pelatihan-online-gelar-profesi-associate-wealth-planner-awp-batch-58-2023/
LOCATION:Zoom Meeting\, Jakarta\, Indonesia
ATTACH;FMTTYPE=image/jpeg:https://www.ifac.or.id/wp-content/uploads/2023/09/AWP-Flyer-20235.jpg
ORGANIZER;CN="ifacademy":MAILTO:academy@ifac.or.id
END:VEVENT
END:VCALENDAR