BEGIN:VCALENDAR
VERSION:2.0
PRODID:-//Indonesia Financial Advisor Community - ECPv6.15.20//NONSGML v1.0//EN
CALSCALE:GREGORIAN
METHOD:PUBLISH
X-ORIGINAL-URL:https://www.ifac.or.id
X-WR-CALDESC:Events for Indonesia Financial Advisor Community
REFRESH-INTERVAL;VALUE=DURATION:PT1H
X-Robots-Tag:noindex
X-PUBLISHED-TTL:PT1H
BEGIN:VTIMEZONE
TZID:UTC
BEGIN:STANDARD
TZOFFSETFROM:+0000
TZOFFSETTO:+0000
TZNAME:UTC
DTSTART:20220101T000000
END:STANDARD
END:VTIMEZONE
BEGIN:VEVENT
DTSTART;TZID=UTC:20231022T080000
DTEND;TZID=UTC:20231022T170000
DTSTAMP:20260425T141245
CREATED:20230429T083812Z
LAST-MODIFIED:20230926T225143Z
UID:5135-1697961600-1697994000@www.ifac.or.id
SUMMARY:Pelatihan Online Gelar Profesi Associate Wealth Planner Syariah (AWP) Batch #55 – 2023
DESCRIPTION:Associate Wealth Planner Syariah adalah Gelar Profesi yang di miliki oleh AWP Academy dan di endorse oleh FPSB Indonesia dan KNEKS. Total member AWP saat ini di atas 6000 member terdiri dari 6000 AWP Non Syariah dan 600 AWP Syariah. \nKeuntungan mengikuti Kelas AWP Syariah \n– Peserta memahami Dasar Perencanaan Keuangan berbasis Syariah \n– Peserta memahami tentang Perencanaan Anggaran berbasis Syariah \n– Peserta mampu menggunakan Aplikasi MyIFPE Syariah untuk menghitung perencanaan anggaran\, Asuransi Jiwa\, Pendidikan Anak\, Pensiun dll secara Digital. \n– Mendapatkan gelar profesi perencana keuangan AWP Syariah yang diendorse oleh FPSB Indonesia. \nJenis Kelas : Online Via Zoom Meeting \nDurasi : 1 Hari (09.00 – 16.00) \nBiaya : Rp 1.350.000\,- per orang (workshop\, e-certificate\, hardcopy certificate\, aplikasi MYIFPE seumur hidup\, gelar profesi AWP (sertifikasi) \nMentor : Vicko Hadian\, CFP\, QWP\, AWP\, AEPP (The Most Inspirational Mentor 2018-2022)
URL:https://www.ifac.or.id/event/pelatihan-online-gelar-profesi-associate-wealth-planner-syariah-awp-batch-50-2023/
LOCATION:Zoom Meeting\, Jakarta\, Indonesia
ATTACH;FMTTYPE=image/jpeg:https://www.ifac.or.id/wp-content/uploads/2023/09/AWP-Syariah-Flyer-20237.jpg
ORGANIZER;CN="ifacademy":MAILTO:academy@ifac.or.id
END:VEVENT
END:VCALENDAR