BEGIN:VCALENDAR
VERSION:2.0
PRODID:-//Indonesia Financial Advisor Community - ECPv6.15.16//NONSGML v1.0//EN
CALSCALE:GREGORIAN
METHOD:PUBLISH
X-ORIGINAL-URL:https://www.ifac.or.id
X-WR-CALDESC:Events for Indonesia Financial Advisor Community
REFRESH-INTERVAL;VALUE=DURATION:PT1H
X-Robots-Tag:noindex
X-PUBLISHED-TTL:PT1H
BEGIN:VTIMEZONE
TZID:Asia/Bangkok
BEGIN:STANDARD
TZOFFSETFROM:+0700
TZOFFSETTO:+0700
TZNAME:+07
DTSTART:20230101T000000
END:STANDARD
END:VTIMEZONE
BEGIN:VEVENT
DTSTART;TZID=Asia/Bangkok:20240330T080000
DTEND;TZID=Asia/Bangkok:20240331T170000
DTSTAMP:20260425T041704
CREATED:20230616T232610Z
LAST-MODIFIED:20240316T122107Z
UID:5596-1711785600-1711904400@www.ifac.or.id
SUMMARY:Pelatihan Online Gelar Profesi Qualified Wealth Planner (QWP) Batch #59/2024
DESCRIPTION:Qualified Wealth Planner adalah Gelar Profesi yang di miliki oleh QWP Academy dan di endorse oleh FPSB Indonesia. Total member QWP saat ini lebih dari 3200 member di seluruh Indonesia. \nKelas QWP ini mengedepankan praktek\,tidak ada biaya tahunan\,  sangat cocok bagi peserta yang ingin menjadi perencana keuangan professional. Tidak ada tingkatan antara gelar profesi AWP dan QWP. \nKeuntungan mengikuti Kelas QWP \n– Peserta memahami Dasar Perencanaan Keuangan \n– Peserta memahami tentang Arus Kas & Manajemen Aset \n– Peserta memahami dan menjelaskan 8 Rasio Keuangan \n– Peserta mampu menggunakan Aplikasi QWP (webbased) untuk membuat bookplan sesuai standard CFP\, menyajikan Financial CheckUp dan menghitung perencanaan  Asuransi Jiwa\,  Pendidikan Anak\,  Pensiun dll. \n– Mendapatkan gelar profesi perencana keuangan QWP yang di endorse oleh FPSB Indonesia. \n-CPD Resertifikasi bagi penyandang gelar RFP dan CFP \nJenis Kelas : Online Via Zoom Meeting \nDurasi : 2 Hari (09.00 – 15.00) \nBreak Makan Siang (12.00 -13.00) \nBiaya : Rp 4.500.000\,- per orang \n( workshop\,  e-modul\, e-certificate\, hardcopy certificate\,  aplikasi QWP seumur hidup\, gelar profesi QWP (sertifikasi) \, Kartu Member QWP Community. \nMentor : Vicko Hadian\, CFP\,QWP\, AWP\,AEPP \nThe Most Inspirational Mentor 2018-2021 \nBest Mentor QWP 2021 \nPendaftaran : Form QWP – IAS Finansial (ptias.id) \nInfo lebih lanjut : bit.ly/pokeifac (WA Admin)
URL:https://www.ifac.or.id/event/pelatihan-online-gelar-profesi-qualified-wealth-planner-qwp-batch-23-2023/
LOCATION:Zoom Meeting\, Jakarta\, Indonesia
ATTACH;FMTTYPE=image/jpeg:https://www.ifac.or.id/wp-content/uploads/2023/09/QWP-Flyer-20238.jpg
ORGANIZER;CN="ifacademy":MAILTO:academy@ifac.or.id
END:VEVENT
END:VCALENDAR