BEGIN:VCALENDAR
VERSION:2.0
PRODID:-//Indonesia Financial Advisor Community - ECPv6.15.20//NONSGML v1.0//EN
CALSCALE:GREGORIAN
METHOD:PUBLISH
X-WR-CALNAME:Indonesia Financial Advisor Community
X-ORIGINAL-URL:https://www.ifac.or.id
X-WR-CALDESC:Events for Indonesia Financial Advisor Community
REFRESH-INTERVAL;VALUE=DURATION:PT1H
X-Robots-Tag:noindex
X-PUBLISHED-TTL:PT1H
BEGIN:VTIMEZONE
TZID:UTC
BEGIN:STANDARD
TZOFFSETFROM:+0000
TZOFFSETTO:+0000
TZNAME:UTC
DTSTART:20220101T000000
END:STANDARD
END:VTIMEZONE
BEGIN:VEVENT
DTSTART;TZID=UTC:20230812T080000
DTEND;TZID=UTC:20230812T170000
DTSTAMP:20260425T154725
CREATED:20230429T083719Z
LAST-MODIFIED:20230810T024616Z
UID:5133-1691827200-1691859600@www.ifac.or.id
SUMMARY:Pelatihan Online Gelar Profesi Associate Wealth Planner (AWP) Batch #55 – 2023
DESCRIPTION:Associate Wealth Planner adalah Gelar Profesi yang di miliki oleh AWP Academy dan di endorse oleh FPSB Indonesia. Total member AWP saat ini di atas 6000 member terdiri dari 6000 AWP Non Syariah dan 600 AWP Syariah. \nKeuntungan mengikuti Kelas AWP \n– Peserta memahami Dasar Perencanaan Keuangan \n– Peserta memahami tentang Perencanaan Anggaran \n– Peserta memahami tentang Konsep Time Value of Money \n– Peserta mampu menggunakan Aplikasi MyIFPE untuk menghitung perencanaan anggaran\, Asuransi Jiwa\, Pendidikan Anak\, Pensiun dll secara Digital. \n– Mendapatkan gelar profesi perencana keuangan AWP yang di endorse oleh FPSB Indonesia. \nJenis Kelas : Online Via Zoom Meeting \nDurasi : 1 Hari (09.00 – 16.00) \nBiaya : Rp 1.200.000\,- per orang (workshop\, e-certificate\, hardcopy certificate\, aplikasi MYIFPE seumur hidup\, gelar profesi AWP (sertifikasi) \nMentor : Vicko Hadian\, CFP\, QWP\, AWP\, AEPP (The Most Inspirational Mentor 2018-2022)
URL:https://www.ifac.or.id/event/pelatihan-online-gelar-profesi-associate-wealth-planner-awp-batch-53-2023/
LOCATION:Zoom Meeting\, Jakarta\, Indonesia
ATTACH;FMTTYPE=image/jpeg:https://www.ifac.or.id/wp-content/uploads/2023/04/Copy-of-Flyer-AWP-QWP-20225.jpg
ORGANIZER;CN="ifacademy":MAILTO:academy@ifac.or.id
END:VEVENT
BEGIN:VEVENT
DTSTART;TZID=UTC:20230813T080000
DTEND;TZID=UTC:20230813T170000
DTSTAMP:20260425T154725
CREATED:20230705T070525Z
LAST-MODIFIED:20230810T024744Z
UID:5638-1691913600-1691946000@www.ifac.or.id
SUMMARY:Pelatihan Online Gelar Profesi Associate Wealth Planner Syariah (AWP) Batch #53 – 2023
DESCRIPTION:Associate Wealth Planner Syariah adalah Gelar Profesi yang di miliki oleh AWP Academy dan di endorse oleh FPSB Indonesia dan KNEKS. Total member AWP saat ini di atas 6000 member terdiri dari 6000 AWP Non Syariah dan 600 AWP Syariah. \nKeuntungan mengikuti Kelas AWP Syariah \n– Peserta memahami Dasar Perencanaan Keuangan berbasis Syariah \n– Peserta memahami tentang Perencanaan Anggaran berbasis Syariah \n– Peserta mampu menggunakan Aplikasi MyIFPE Syariah untuk menghitung perencanaan anggaran\, Asuransi Jiwa\, Pendidikan Anak\, Pensiun dll secara Digital. \n– Mendapatkan gelar profesi perencana keuangan AWP Syariah yang diendorse oleh FPSB Indonesia. \nJenis Kelas : Online Via Zoom Meeting \nDurasi : 1 Hari (09.00 – 16.00) \nBiaya : Rp 1.350.000\,- per orang (workshop\, e-certificate\, hardcopy certificate\, aplikasi MYIFPE seumur hidup\, gelar profesi AWP (sertifikasi) \nMentor : Vicko Hadian\, CFP\, QWP\, AWP\, AEPP (The Most Inspirational Mentor 2018-2022)
URL:https://www.ifac.or.id/event/pelatihan-online-gelar-profesi-associate-wealth-planner-syariah-awp-batch-51-2023/
LOCATION:Zoom Meeting\, Jakarta\, Indonesia
ATTACH;FMTTYPE=image/jpeg:https://www.ifac.or.id/wp-content/uploads/2023/04/Copy-of-Flyer-AWP-QWP-20224-1.jpg
ORGANIZER;CN="ifacademy":MAILTO:academy@ifac.or.id
END:VEVENT
BEGIN:VEVENT
DTSTART;TZID=UTC:20230815T080000
DTEND;TZID=UTC:20230815T170000
DTSTAMP:20260425T154725
CREATED:20230616T232019Z
LAST-MODIFIED:20230810T024832Z
UID:5593-1692086400-1692118800@www.ifac.or.id
SUMMARY:Pelatihan Online Gelar Profesi Qualified Wealth Planner (QWP) Batch #23 - 2023
DESCRIPTION:Qualified Wealth Planner adalah Gelar Profesi yang di miliki oleh QWP Academy dan di endorse oleh FPSB Indonesia. Total member QWP saat ini lebih dari 3200 member di seluruh Indonesia. \nKelas QWP ini mengedepankan praktek\,tidak ada biaya tahunan\,  sangat cocok bagi peserta yang ingin menjadi perencana keuangan professional. Tidak ada tingkatan antara gelar profesi AWP dan QWP. \nKeuntungan mengikuti Kelas QWP \n– Peserta memahami Dasar Perencanaan Keuangan \n– Peserta memahami tentang Arus Kas & Manajemen Aset \n– Peserta memahami dan menjelaskan 8 Rasio Keuangan \n– Peserta mampu menggunakan Aplikasi QWP (webbased) untuk membuat bookplan sesuai standard CFP\, menyajikan Financial CheckUp dan menghitung perencanaan  Asuransi Jiwa\,  Pendidikan Anak\,  Pensiun dll. \n– Mendapatkan gelar profesi perencana keuangan QWP yang di endorse oleh FPSB Indonesia. \n-CPD Resertifikasi bagi penyandang gelar RFP dan CFP \nJenis Kelas : Online Via Zoom Meeting \nDurasi : 2 Hari (09.00 – 15.00) \nBreak Makan Siang (12.00 -13.00) \nBiaya : Rp 4.500.000\,- per orang \n(workshop\,  e-modul\, e-certificate\, hardcopy certificate\,  aplikasi QWP seumur hidup\, gelar profesi QWP (sertifikasi) \, Kartu Member QWP Community) \nMentor : Vicko Hadian\, CFP\,QWP\, AWP\,AEPP \nThe Most Inspirational Mentor 2018-2022
URL:https://www.ifac.or.id/event/pelatiham-online-gelar-profesi-qualified-wealth-planner-qwp-batch-22-2023/
LOCATION:Zoom Meeting\, Jakarta\, Indonesia
ATTACH;FMTTYPE=image/jpeg:https://www.ifac.or.id/wp-content/uploads/2023/04/Copy-of-Flyer-AWP-QWP-2022-1.jpg
ORGANIZER;CN="ifacademy":MAILTO:academy@ifac.or.id
END:VEVENT
END:VCALENDAR